Workbook

Sheet Emissionsfaktoren
A1: CO2e-Emissionen (Scope 1 und 2 incl. Vorketten im Scope 3)
A3: Emissionsquelle | B3: Energieträger | C3: Menge / Verbrauch | D3: Einheit | E3: Emissionsfaktor (t CO2e pro Einheit) | F3: Treibhausggasemission (CO2e in t)
A4: Mobilität
B5: Erdgas, CNG | C5: (bitte eintragen) | D5: Liter | E5: 0.000541 | F5: =IF(C5="(bitte eintragen)",0,C5*E5) -> 0
B6: Erdgas, CNG | C6: (bitte eintragen) | D6: kWh | E6: 0.000339 | F6: =IF(C6="(bitte eintragen)",0,C6*E6) -> 0
B7: Wasserstoff | C7: (bitte eintragen) | D7: kg | E7: 0.007499 | F7: =IF(C7="(bitte eintragen)",0,C7*E7) -> 0
B8: Elektro, Strommix Deutschland | C8: (bitte eintragen) | D8: kWh | E8: 0.000485 | F8: =IF(C8="(bitte eintragen)",0,C8*E8) -> 0
B9: Benzin | C9: (bitte eintragen) | D9: Liter | E9: 0.00303 | F9: =IF(C9="(bitte eintragen)",0,C9*E9) -> 0
B10: Diesel | C10: (bitte eintragen) | D10: Liter | E10: 0.00341 | F10: =IF(C10="(bitte eintragen)",0,C10*E10) -> 0
A11: Direkte Kältemittelemissionen (Leakagen)
B12: R22 | C12: (bitte eintragen) | D12: kg | E12: 1.886 | F12: =IF(C12="(bitte eintragen)",0,C12*E12) -> 0
B13: R134A | C13: (bitte eintragen) | D13: kg | E13: 1.533 | F13: =IF(C13="(bitte eintragen)",0,C13*E13) -> 0
B14: R404A | C14: (bitte eintragen) | D14: kg | E14: 4.025 | F14: =IF(C14="(bitte eintragen)",0,C14*E14) -> 0
B15: R410A | C15: (bitte eintragen) | D15: kg | E15: 2.177 | F15: =IF(C15="(bitte eintragen)",0,C15*E15) -> 0
B16: R407C | C16: (bitte eintragen) | D16: kg | E16: 1.774 | F16: =IF(C16="(bitte eintragen)",0,C16*E16) -> 0
B17: R407F | C17: (bitte eintragen) | D17: kg | E17: 1.825 | F17: =IF(C17="(bitte eintragen)",0,C17*E17) -> 0
B18: R-600A (Isobutan) | C18: (bitte eintragen) | D18: kg | E18: 0.003 | F18: =IF(C18="(bitte eintragen)",0,C18*E18) -> 0
B19: R744 (CO2) | C19: (bitte eintragen) | D19: kg | E19: 0.001 | F19: =IF(C19="(bitte eintragen)",0,C19*E19) -> 0
B20: R717 (NH3) | C20: (bitte eintragen) | D20: kg | E20: 0 | F20: =IF(C20="(bitte eintragen)",0,C20*E20) -> 0
A21: Wärme
B22: Erdgas | C22: (bitte eintragen) | D22: m³ | E22: 0.002302 | F22: =IF(C22="(bitte eintragen)",0,C22*E22) -> 0
B23: Erdgas | C23: (bitte eintragen) | D23: kWh | E23: 0.000244 | F23: =IF(C23="(bitte eintragen)",0,C23*E23) -> 0
B24: Biogas Mix | C24: (bitte eintragen) | D24: m³ | E24: 0.000785 | F24: =IF(C24="(bitte eintragen)",0,C24*E24) -> 0
B25: Biogas Mix | C25: (bitte eintragen) | D25: kWh | E25: 0.000157 | F25: =IF(C25="(bitte eintragen)",0,C25*E25) -> 0
B26: Heizöl | C26: (bitte eintragen) | D26: Liter | E26: 0.003042 | F26: =IF(C26="(bitte eintragen)",0,C26*E26) -> 0
B27: Heizöl | C27: (bitte eintragen) | D27: kWh | E27: 0.000368 | F27: =IF(C27="(bitte eintragen)",0,C27*E27) -> 0
B28: Holzpellets | C28: (bitte eintragen) | D28: t | E28: 0.05279 | F28: =IF(C28="(bitte eintragen)",0,C28*E28) -> 0
B29: Holzpellets | C29: (bitte eintragen) | D29: kWh | E29: 7.92e-05 | F29: =IF(C29="(bitte eintragen)",0,C29*E29) -> 0
B30: Hackschnitzel | C30: (bitte eintragen) | D30: t | E30: 0.065775 | F30: =IF(C30="(bitte eintragen)",0,C30*E30) -> 0
B31: Stückholz | C31: (bitte eintragen) | D31: t | E31: 0.101897 | F31: =IF(C31="(bitte eintragen)",0,C31*E31) -> 0
B32: Fernwärme | C32: (bitte eintragen) | D32: kWh | E32: 0.000295 | F32: =IF(C32="(bitte eintragen)",0,C32*E32) -> 0
B33: Flüssiggas | C33: (bitte eintragen) | D33: Liter | E33: 0.003052 | F33: =IF(C33="(bitte eintragen)",0,C33*E33) -> 0
... B35: Steinkohle | C35: (bitte eintragen) | D35: kWh | E35: 0.000429 | F35: =IF(C35="(bitte eintragen)",0,C35*E35) -> 0
A36: Strom
B37: Strommix Deutschland | C37: (bitte eintragen) | D37: kWh | E37: 0.000435 | F37: =IF(C37="(bitte eintragen)",0,C37*E37) -> 0
B38: Strom-PV | C38: (bitte eintragen) | D38: kWh | E38: 5.57e-05 | F38: =IF(C38="(bitte eintragen)",0,C38*E38) -> 0
B39: Ökostrom-Mix | C39: (bitte eintragen) | D39: kWh | E39: 0.000107 | F39: =IF(C39="(bitte eintragen)",0,C39*E39) -> 0
A40: Wasser
B41: Trinkwasser aus der Leitung | D41: Liter | E41: 2.42e-06 | F41: =IF(C41="(bitte eintragen)",0,C41*E41) -> 0
A42: Gesamtsumme | F42: =SUM(F5:F41) -> 0
A46: Bezeichnung | C46: Faktor | D46: Einheit CO2e
A47: 1.1 Wärmeverbauch
A48: Natural Gas | C48: 0.18385 | D48: kg/kWh (Cross CV)
A49: Natural Gas | C49: 2.03053 | D49: kg/m3
A50: Fuel Oil | C50: 3.17966 | D50: kg/Liter
A51: Fuel Oil | C51: 0.26782 | D51: kg/kWh (Cross CV)
A53: 1.2 Kraftstoffverbrauch
A54: Diesel | C54: 2.68697 | D54: kg/Liter
A55: Benzin | C55: 2.31495 | D55: kg/Liter
A56: LPG (Autogas) | C56: 1.5226 | D56: kg/Liter
A57: CNG (Erdgas) | C57: 2.542 | D57: kg/kg
A58: Biodiesel | C58: 0.033 | D58: kg/Liter
A59: Bioethanol | C59: 0.008 | D59: kg/Liter
A60: Emissionen pro Km (PKW) | C60: 0.165 | D60: kg/ Km
A61: Emissionen pro Km (Transport) | C61: 0.79128 | D61: kg/ Km
A63: 1.3 Gasleckagen
A64: Carbon dioxide (CO2) | C64: 1 | D64: kg/kg
A65: Carbon tetrachloride | C65: 1400 | D65: kg/kg
A66: CFC-11/R11 | C66: 4750 | D66: kg/kg
A67: CFC-113 | C67: 6130 | D67: kg/kg
A68: CFC-114 | C68: 10000 | D68: kg/kg
A69: CFC-115 | C69: 7370 | D69: kg/kg
A70: CFC-12/R12 | C70: 10900 | D70: kg/kg
A71: CFC-13 | C71: 14400 | D71: kg/kg
A72: Dimethylether | C72: 1 | D72: kg/kg
A73: Halon-1211 | C73: 1890 | D73: kg/kg
A74: Halon-1301 | C74: 7140 | D74: kg/kg
A75: Halon-2402 | C75: 1640 | D75: kg/kg
... A149: Unbekannt | C149: 3638.8 | D149: kg/kg
A152: 2.1 Stromverbrauch
A153: deutscher Strommix | C153: 0.486 | D153: kg/kWh
A154: Ökostrom | C154: 0 | D154: kg/kWh
A155: selbsterzeugter Strom | C155: 0 | D155: kg/kWh
A157: 2.2 Fernwärme
A158: Fernwärme | C158: 0.187 | D158: kg/kWh
A160: 3.1 eingekaufte Waren und Dienstleistungen
A162: Blatt Papier | C162: 0.005 | D162: kg/Blatt
A163: Papier Frischfaser | C163: 0.952 | D163: kg/kg
A164: Papier Recycelt | C164: 0.794 | D164: kg/kg
A165: Kartonage | C165: 0.794 | D165: kg/kg
A166: Kunststoff | C166: 2.301 | D166: kg/kg
A168: 3.2 Anlagegüter
A169: LkW/PKW/Lagermaschinen | C169: 0.7 | D169: kg/eingekauftes Pfund Sterling
D170: (Umrechnung in Euro erfolgt mit Umrechungskurs 1.17)
A172: 3.3 vorgelagerte Emissionen
A173: Heizöl-WTT | C173: 0.52751 | D173: kg/l
A174: Heizöl-WTT | C174: 0.05888 | D174: kg/kWh
A175: Heizöl-WTT | C175: 0.60263 | D175: kg/l
A176: Gas-WTT | C176: 0.02391 | D176: kg/kWh
A177: Gas-WTT | C177: 0.2845 | D177: kg/m3
A178: LPG-WTT | C178: 0.19147 | D178: kg/Liter
A179: CNG-WTT | C179: 0.488 | D179: kg/kg
A180: Diesel-WTT | C180: 0.61846 | D180: kg/l
A181: Bioethanol-WTT | C181: 0.61098 | D181: kg/Liter
A182: Biodiesel-WTT | C182: 0.36672 | D182: kg/l
A183: Benzin-WTT | C183: 0.59665 | D183: kg/l
A184: Strommix Deutschland-indiekt | C184: 0.069541223 | D184: kg/kWh
... A187: Fernwärme-indirekt | C187: 0.02709 | D187: kg/kWh
A189: 3.5 Abfall und Abwasser
A190: Bioabfall (Verbrennung) | C190: 21.354 | D190: kg/Tonne
...

Sheet ZDF-Topserv
A1: ZDF-TOPSERV
A2: PV-Anlagen - 900 W / kWp | D2: Emissionsfaktor für Strommix = 0,434 kg CO2e / kWh
B3: kWp | C3: kWh / a | D3: CO2e - Ersparnis
A4: Nonne | B4: =196+20 -> 216 | C4: =B4*960 -> 207360 | D4: =0.434*C4 -> 89994.24 | E4: kg
A5: Merhagen | B5: 200 | C5: =B5*950 -> 190000 | D5: =0.434*C5 -> 82460 | E5: kg
A6: Durner | B6: =147.84+295.68 -> 443.52 | C6: =B6*950 -> 421344 | D6: =0.434*C6 -> 182863.3 | E6: kg
A7: Toussaint O+S | B7: 650 | C7: =B7*950 -> 617500 | D7: =0.434*C7 -> 267995 | E7: kg
A8: Harema | B8: 250 | C8: =B8*950 -> 237500 | D8: =0.434*C8 -> 103075 | E8: kg
A9: Nonne in Planung | B9: 300 | C9: =B9*950 -> 285000 | D9: =0.434*C9 -> 123690 | E9: kg
A10: Lloyd in Planung | B10: 200 | C10: =B10*950 -> 190000 | D10: =0.434*C10 -> 82460 | E10: kg
A11: Status aktuell: | C11: =C4+C5+C6+C7 -> 1436204 | D11: =D4+D5+D6+D7 -> 623312.54 | E11: kg
A12: inkl. Planung: | B12: =SUM(B4:B10) -> 2259.52 | C12: =SUM(C4:C10) -> 2148704 | D12: =SUM(D4:D10) -> 932537.54 | E12: kg
A14: Windkraftanlagen | D14: Annahme: An 100 Tagen im Jahr liefert die Anlage Strom
B15: kW/h | C15: kWh/a
A16: Nonne | B16: 20 | C16: =B16*8760*0.274 -> 48004.8 | D16: =0.434*C16 -> 20834.083 | E16: kg
A17: Toussaint O+S | B17: 9 | C17: =B17*8760*0.274 -> 21602.16 | D17: =0.434*C17 -> 9375.3374 | E17: kg
A18: Status aktuell: | C18: =SUM(C16:C17) -> 69606.96 | D18: =SUM(D16:D17) -> 30209.421 | E18: kg
A20: Vollständige Umstellung auf Öko-Strom und -Gas
A22: Brune | D22: 195000 | E22: kg | F22: laut Umweltbericht
A24: Wärmepumpen | D24: Annahme: 75% der benötigten Heizenergie kann durch Wärmepumpen aufgebracht werden
A25: Durchschnittlicher Heizenergiebedarf 120 kWh / m²a | B25: Hallenfläche | C25: Bürofläche | D25: Heizenergiebedarf in kWh | E25: CO2e - Ersparnis | F25: Emissionsfaktor für Erdgas = 0,201 kg CO2e / kWh
A26: Nonne | B26: 8000 | C26: 600 | D26: =(B26+C26)*120 -> 1032000 | E26: =0.201*D26*0.75 -> 155574
A27: Merhagen | B27: 10000 | C27: 1000 | D27: =(B27+C27)*120 -> 1320000 | E27: =0.201*D27*0.75 -> 198990
A28: Lloyd in Planung | B28: 5900 | C28: 500 | D28: =(B28+C28)*120 -> 768000 | E28: =0.201*D28*0.75 -> 115776
A29: Durner | B29: 8000 | C29: 2000 | D29: =(B29+C29)*120 -> 1200000 | E29: =0.201*D29*0.75 -> 180900
A30: Toussaint O+S | B30: 9000 | C30: 2000 | D30: =(B30+C30)*120 -> 1320000 | E30: =0.201*D30*0.75 -> 198990
A31: Status aktuell: | B31: =SUM(B26:B30) -> 40900 | C31: =SUM(C26:C30) -> 6100 | D31: =SUM(D26:D30) -> 5640000 | E31: =SUM(E26:E30) -> 850230

Sheet Daten2023
A1: TOPSERV | B1: Scope 1 | Q1: Scope 2 | U1: Scope1+Scope2
A2: Klimabilanz | B2: Erdgas | D2: Heizöl / Pellets | F2: Diesel | I2: Benzin | L2: Wasserverbrauch | N2: Flugreisen | P2: Scope 1 | Q2: Strom | R2: Öko / Mix | S2: Erzeugter PV/Wind - Strom | T2: Scope 2 | U2: Total (Einlagerung bis Auslieferung) | V2: Umwelt/Klima Zertifikate | W2: Geschäftspapier + Kartonagen | X2: Folien/ Kstoffe | Y2: Verkaufte Produkte | Z2: Verkaufte Produkte mit NH-Label | AA2: Umsatz | AB2: Hallenfläche | AC2: Bürofläche | AD2: Anzahl LKW + Transporter | AE2: Anzahl PKW | AF2: Anzahl MA | AG2: Anzahl MA weiblich | AH2: Anzahl MA > 5 Jahre im Unternehmen
B3: kWh | C3: t CO2e | D3: kWh | E3: t CO2e | F3: L | G3: kWh | H3: t CO2e | I3: L | J3: kWh | K3: t CO2e | L3: m³ | M3: t CO2e | N3: km | O3: t CO2e | P3: t CO2e | Q3: kWh | S3: kWh | T3: t CO2e | U3: t CO2e | W3: kg | X3: kg | Y3: t | Z3: t | AA3: M€ | AB3: m² | AC3: m²
A4: Wencke-Management | B4: 3953 | C4: =B4*0.000244 -> 0.964532 | D4: 0 | E4: =D4*0.000368 -> 0 | F4: 0 | G4: =F4*9.8 -> 0 | H4: =F4*0.00341 -> 0 | I4: 6008 | J4: =I4*8.4 -> 50467.2 | K4: =I4*0.00303 -> 18.20424 | L4: 27 | M4: =L4*0.00000242 -> 6.534e-05 | N4: 0 | O4: =N4/500 -> 0 | P4: =C4+E4+H4+K4+M4+O4 -> 19.168837 | Q4: 2258 | R4: Öko | S4: 0 | T4: =(Q4*0.000107)+(S4*0.0000557) -> 0.241606 | U4: =P4+T4 -> 19.410443 | V4: 0 | W4: 400 | Y4: 0 | Z4: 0 | AA4: 1.08 | AB4: 0 | AC4: 105 | AD4: 0 | AE4: 1 | AF4: 11 | AG4: 9 | AH4: 4
A5: E Nonne inkl. BS + HB | B5: 0 | C5: =B5*0.000244 -> 0 | D5: 0 | E5: =D5*0.000368 -> 0 | F5: 162025 | G5: =F5*9.8 -> 1587845 | H5: =F5*0.00341 -> 552.50525 | I5: 16810 | J5: =I5*8.4 -> 141204 | K5: =I5*0.00303 -> 50.9343 | L5: 3651 | M5: =L5*0.00000242 -> 0.00883542 | N5: 6000 | O5: =N5*0.00005 -> 0.3 | P5: =C5+E5+H5+K5+M5+O5 -> 603.74839 | Q5: =449121+6888+2100+12000+1530 -> 471639 | R5: Öko | S5: ='ZDF-Topserv'!C4+'ZDF-Topserv'!C16 -> 255364.8 | T5: =(Q5*0.000107)+(S5*0.0000557) -> 64.689192 | U5: =P5+T5 -> 668.43758 | V5: 0 | W5: 18296 | X5: =3000 -> 3000 | Y5: 5721 | Z5: 926 | AA5: 26.6 | AB5: 10660 | AC5: 1780 | AD5: 23 | AE5: 21 | AF5: =105+3+6 -> 114 | AG5: =37+2+2 -> 41 | AH5: =49+2 -> 51
A6: VMS inkl. Abholm. | B6: 26452 | C6: =B6*0.000244 -> 6.454288 | D6: 0 | E6: =D6*0.000368 -> 0 | F6: 105043 | G6: =F6*9.8 -> 1029421.4 | H6: =F6*0.00341 -> 358.19663 | I6: 10050 | J6: =I6*8.4 -> 84420 | K6: =I6*0.00303 -> 30.4515 | L6: 552 | M6: =L6*0.00000242 -> 0.00133584 | N6: 2000 | O6: =N6*0.00005 -> 0.1 | P6: =C6+E6+H6+K6+M6+O6 -> 395.20375 | Q6: =265104+31423 -> 296527 | R6: Öko | S6: ='ZDF-Topserv'!C5 -> 190000 | T6: =(Q6*0.000107)+(S6*0.0000557) -> 42.311389 | U6: =P6+T6 -> 437.51514 | V6: ISO 14001 | W6: =17420+1297 -> 18717 | X6: 1584 | Y6: 7621 | Z6: 3242 | AA6: 27.9 | AB6: 9650 | AC6: 850 | AD6: 17 | AE6: 22 | AF6: 91 | AG6: 27 | AH6: 37
A7: Lloyd-Kiel | B7: 187710 | C7: =B7*0.000244 -> 45.80124 | D7: 0 | E7: =D7*0.000368 -> 0 | F7: 46725 | G7: =F7*9.8 -> 457905 | H7: =F7*0.00341 -> 159.33225 | I7: 658 | J7: =I7*8.4 -> 5527.2 | K7: =I7*0.00303 -> 1.99374 | L7: 123 | M7: =L7*0.00000242 -> 0.00029766 | N7: 2000 | O7: =N7*0.00005 -> 0.1 | P7: =C7+E7+H7+K7+M7+O7 -> 207.22753 | Q7: 63960 | R7: Öko | S7: 0 | T7: =(Q7*0.000107)+(S7*0.0000557) -> 6.84372 | U7: =P7+T7 -> 214.07125 | V7: ISO 14001 | W7: =56.1*200 -> 11220 | X7: 2200 | Y7: 3421 | Z7: 300.4 | AA7: 14.7 | AB7: 2005 | AC7: 400 | AD7: 6 | AE7: 7 | AF7: 34 | AG7: 8 | AH7: 19
A8: Lloyd-Stäbelow | B8: 255293 | C8: =B8*0.000244 -> 62.291492 | D8: 0 | E8: =D8*0.000368 -> 0 | F8: 56480 | G8: =F8*9.8 -> 553504 | H8: =F8*0.00341 -> 192.5968 | I8: 1748 | J8: =I8*8.4 -> 14683.2 | K8: =I8*0.00303 -> 5.29644 | L8: 104 | M8: =L8*0.00000242 -> 0.00025168 | N8: 0 | O8: =N8*0.00005 -> 0 | P8: =C8+E8+H8+K8+M8+O8 -> 260.18498 | Q8: 51992 | R8: Öko | S8: 0 | T8: =(Q8*0.000107)+(S8*0.0000557) -> 5.563144 | U8: =P8+T8 -> 265.74813 | V8: ISO 14001 | W8: 2790 | X8: 2050 | AB8: 1832 | AC8: 295 | AD8: 6 | AE8: 6 | AF8: 28 | AG8: 11 | AH8: 11
A9: Beese | B9: 57446 | C9: =B9*0.000244 -> 14.016824 | D9: 0 | E9: =D9*0.000368 -> 0 | F9: 3783 | G9: =F9*9.8 -> 37073.4 | H9: =F9*0.00341 -> 12.90003 | I9: 0 | J9: =I9*8.4 -> 0 | K9: =I9*0.00303 -> 0 | L9: 122 | M9: =L9*0.00000242 -> 0.00029524 | N9: 0 | O9: =N9*0.00005 -> 0 | P9: =C9+E9+H9+K9+M9+O9 -> 26.917149 | Q9: 4208 | R9: Öko | S9: 0 | T9: =(Q9*0.000107)+(S9*0.0000557) -> 0.450256 | U9: =P9+T9 -> 27.367405 | V9: 0 | W9: 426 | X9: 100 | Y9: 200 | Z9: 0 | AA9: 0.78 | AB9: 381 | AC9: 106 | AD9: 0 | AE9: 2 | AF9: 5 | AG9: 3 | AH9: 0
A10: Kernreich | B10: 48563 | C10: =B10*0.000244 -> 11.849372 | D10: 0 | E10: =D10*0.000368 -> 0 | F10: 2584 | G10: =F10*9.8 -> 25323.2 | H10: =F10*0.00341 -> 8.81144 | I10: 455 | J10: =I10*8.4 -> 3822 | K10: =I10*0.00303 -> 1.37865 | L10: 43 | M10: =L10*0.00000242 -> 0.00010406 | N10: 0 | O10: =N10*0.00005 -> 0 | P10: =C10+E10+H10+K10+M10+O10 -> 22.039566 | Q10: 15234 | R10: Öko | S10: 0 | T10: =(Q10*0.000107)+(S10*0.0000557) -> 1.630038 | U10: =P10+T10 -> 23.669604 | V10: 0 | W10: 5000 | X10: 21 | Y10: 400 | Z10: 0 | AA10: 1.45 | AB10: 535 | AC10: 379 | AD10: 1 | AE10: 1 | AF10: 7 | AG10: 4 | AH10: 4
A11: Glasofix | B11: 16123 | C11: =B11*0.000244 -> 3.934012 | D11: 0 | E11: =D11*0.000368 -> 0 | F11: 17369 | G11: =F11*9.8 -> 170216.2 | H11: =F11*0.00341 -> 59.22829 | I11: 5853 | J11: =I11*8.4 -> 49165.2 | K11: =I11*0.00303 -> 17.73459 | L11: 33 | M11: =L11*0.00000242 -> 7.986e-05 | N11: 0 | O11: =N11*0.00005 -> 0 | P11: =C11+E11+H11+K11+M11+O11 -> 80.896972 | Q11: 6634 | R11: Öko | S11: 0 | T11: =(Q11*0.000107)+(S11*0.0000557) -> 0.709838 | U11: =P11+T11 -> 81.60681 | V11: 0 | W11: 300 | X11: 1275 | Y11: 635 | Z11: 8 | AA11: 3.22 | AB11: 692 | AC11: 90 | AD11: 3 | AE11: 6 | AF11: 18 | AG11: 4 | AH11: 7
A12: Summe Wencke-Gruppe | B12: =SUM(B4:B11) -> 595540 | C12: =SUM(C4:C11) -> 145.31176 | D12: =SUM(D4:D11) -> 0 | E12: =SUM(E4:E11) -> 0 | F12: =SUM(F4:F11) -> 394009 | G12: =SUM(G4:G11) -> 3861288.2 | H12: =SUM(H4:H11) -> 1343.5707 | I12: =SUM(I4:I11) -> 41582 | ... Q12: =SUM(Q4:Q11) -> 912452 | S12: =SUM(S4:S11) -> 445364.8 | T12: =SUM(T4:T11) -> 122.43918 | U12: =SUM(U4:U11) -> 1737.8264 | W12: =SUM(W4:W11) -> 57149 | X12: =SUM(X4:X11) -> 10230 | Y12: =SUM(Y4:Y11) -> 17998 | Z12: =SUM(Z4:Z11) -> 4476.4 | AA12: =SUM(AA4:AA11) -> 75.73 | AB12: =SUM(AB4:AB11) -> 25755 | AC12: =SUM(AC4:AC11) -> 4005 | AD12: =SUM(AD4:AD11) -> 56 | ... AH12: =SUM(AH4:AH11) -> 133
A13: Toussaint-Hanweiler | B13: 562250 | C13: =B13*0.000244 -> 137.189 | D13: 0 | E13: =D13*0.000368 -> 0 | F13: =106456+31427 -> 137883 | G13: =F13*9.8 -> 1351253.4 | H13: =F13*0.00341 -> 470.18103 | I13: 0 | J13: =I13*8.4 -> 0 | K13: =I13*0.00303 -> 0 | L13: 596 | M13: =L13*0.00000242 -> 0.00144232 | N13: 26986 | O13: =N13*0.00005 -> 1.3493 | P13: =C13+E13+H13+K13+M13+O13 -> 608.72077 | Q13: 208974 | R13: Mix | S13: 0 | T13: =(Q13*0.000435)+(S6*0.0000557) -> 101.48669 | U13: =P13+T13 -> 710.20746 | V13: ISO 14001 | W13: =1010+4239 -> 5249 | X13: 2475 | Y13: 6211 | Z13: 2540 | AA13: 33.2 | AB13: 6400 | AC13: 6000 | AD13: 13 | AE13: 32 | AF13: 127 | AG13: 43 | AH13: 54
A14: Toussaint-Hermeskeil | B14: 0 | C14: =B14*0.000244 -> 0 | D14: 255000 | E14: =D14*0.000368 -> 93.84 | F14: =62075+19655 -> 81730 | G14: =F14*9.8 -> 800954 | H14: =F14*0.00341 -> 278.6993 | I14: 0 | J14: =I14*8.4 -> 0 | K14: =I14*0.00303 -> 0 | L14: 272 | M14: =L14*0.00000242 -> 0.00065824 | N14: 0 | O14: =N14*0.00005 -> 0 | P14: =C14+E14+H14+K14+M14+O14 -> 372.53996 | Q14: 58276 | R14: Mix | S14: 0 | T14: =(Q14*0.000435)+(S7*0.0000557) -> 25.35006 | U14: =P14+T14 -> 397.89002 | V14: ISO 14001 | W14: =2046+185 -> 2231 | X14: 1300 | Y14: 3156 | Z14: 1443 | AA14: 12.9 | AB14: 2986 | AC14: 445 | AD14: 6 | AE14: 12 | AF14: 41 | AG14: 11 | AH14: 25
A15: Offterdinger&Sailer | B15: 173850 | C15: =B15*0.000244 -> 42.4194 | D15: 0 | E15: =D15*0.000368 -> 0 | F15: =109874+28424 -> 138298 | G15: =F15*9.8 -> 1355320.4 | H15: =F15*0.00341 -> 471.59618 | I15: 0 | J15: =I15*8.4 -> 0 | K15: =I15*0.00303 -> 0 | L15: 752 | M15: =L15*0.00000242 -> 0.00181984 | N15: 7168 | O15: =N15*0.00005 -> 0.3584 | P15: =C15+E15+H15+K15+M15+O15 -> 514.3758 | Q15: 227582 | R15: Mix | S15: ='ZDF-Topserv'!C7 -> 617500 | T15: =(Q15*0.000435)+(S8*0.0000557) -> 98.99817 | U15: =P15+T15 -> 613.37397 | V15: ISO 14001 | W15: =3992+21144 -> 25136 | X15: 6442 | Y15: 8539 | Z15: 3761 | AA15: 39.5 | AB15: 9000 | AC15: 2300 | AD15: 15 | AE15: 20 | AF15: 111 | AG15: 47 | AH15: 50
A16: Rink-Reha | B16: 277963 | C16: =B16*0.000244 -> 67.822972 | D16: 0 | E16: =D16*0.000368 -> 0 | F16: =26876+7605 -> 34481 | G16: =F16*9.8 -> 337913.8 | H16: =F16*0.00341 -> 117.58021 | I16: 867 | J16: =I16*8.4 -> 7282.8 | K16: =I16*0.00303 -> 2.62701 | L16: 233 | M16: =L16*0.00000242 -> 0.00056386 | N16: 0 | O16: =N16*0.00005 -> 0 | P16: =C16+E16+H16+K16+M16+O16 -> 188.03076 | Q16: 77154 | R16: Mix | S16: 0 | T16: =(Q16*0.000435)+(S9*0.0000557) -> 33.56199 | U16: =P16+T16 -> 221.59275 | V16: ISO 14001 | W16: =1721+12677 -> 14398 | X16: 403 | Y16: 855 | Z16: 1 | AA16: 5.7 | AB16: 2376 | AC16: 1258 | AD16: 8 | AE16: 7 | AF16: 32 | AG16: 16 | AH16: 18
A17: Standort Berlin ab 2024 | B17: 0 | C17: =B17*0.000244 -> 0 | D17: 0 | E17: =D17*0.000368 -> 0 | F17: 0 | G17: =F17*9.8 -> 0 | H17: =F17*0.00341 -> 0 | I17: 0 | J17: =I17*8.4 -> 0 | K17: =I17*0.00303 -> 0 | L17: 0 | M17: =L17*0.00000242 -> 0 | N17: 0 | O17: =N17*0.00005 -> 0 | P17: =C17+E17+H17+K17+M17+O17 -> 0 | Q17: 0 | R17: - | S17: 0 | T17: =(Q17*0.000435)+(S10*0.0000557) -> 0 | U17: =P17+T17 -> 0 | V17: ISO 14001 | W17: 0 | X17: 0 | Y17: 0 | Z17: 0 | AA17: 0 | AB17: 0 | AC17: 0 | AD17: 0 | AE17: 0 | AF17: 0 | AG17: 0 | AH17: 0
A18: Harema | B18: 687074 | C18: =B18*0.000244 -> 167.64606 | D18: 0 | E18: =D18*0.000368 -> 0 | F18: 56599 | G18: =F18*9.8 -> 554670.2 | H18: =F18*0.00341 -> 193.00259 | I18: 733 | J18: =I18*8.4 -> 6157.2 | K18: =I18*0.00303 -> 2.22099 | L18: 309 | M18: =L18*0.00000242 -> 0.00074778 | N18: 3572 | O18: =N18*0.00005 -> 0.1786 | P18: =C18+E18+H18+K18+M18+O18 -> 363.04898 | Q18: 90595 | R18: Öko | S18: ='ZDF-Topserv'!C8 -> 237500 | T18: =(Q18*0.000107)+(S18*0.0000557) -> 22.922415 | U18: =P18+T18 -> 385.9714 | V18: ISO 14001 | W18: 5132 | X18: 1688 | Y18: 5392 | Z18: =Y18*0.15 -> 808.8 | AA18: 20 | AB18: 4110 | AC18: 1800 | AD18: 9 | AE18: 12 | AF18: 70 | AG18: 26 | AH18: 28
A19: Berufskleidung24.de | B19: 0 | C19: =B19*0.000244 -> 0 | D19: 144000 | E19: =D19*0.000368 -> 52.992 | F19: 2019 | G19: =F19*9.8 -> 19786.2 | H19: =F19*0.00341 -> 6.88479 | I19: 0 | J19: =I19*8.4 -> 0 | K19: =I19*0.00303 -> 0 | L19: 37 | M19: =L19*0.00000242 -> 8.954e-05 | N19: 0 | O19: =N19*0.00005 -> 0 | P19: =C19+E19+H19+K19+M19+O19 -> 59.87688 | Q19: 14837 | R19: Mix | S19: 0 | T19: =(Q19*0.000435)+(S12*0.0000557) -> 31.260914 | U19: =P19+T19 -> 91.137794 | V19: ISO 14001 | W19: =26+402 -> 428 | X19: 15 | Y19: 131 | Z19: 0 | AA19: 2 | AB19: 522 | AC19: 118 | AD19: 0 | AE19: 2 | AF19: 8 | AG19: 6 | AH19: 0
A20: Summe Toussaint-Gruppe | B20: =SUM(B13:B19) -> 1701137 | C20: =SUM(C13:C19) -> 415.07743 | D20: =SUM(D13:D19) -> 399000 | E20: =SUM(E13:E19) -> 146.832 | F20: =SUM(F13:F19) -> 451010 | G20: =SUM(G13:G19) -> 4419898 | H20: =SUM(H13:H19) -> 1537.9441 | I20: =SUM(I13:I19) -> 1600 | ... Q20: =SUM(Q13:Q19) -> 677418 | S20: =SUM(S13:S19) -> 855000 | T20: =SUM(T13:T19) -> 313.58024 | U20: =SUM(U13:U19) -> 2420.1734 | W20: =SUM(W13:W19) -> 52574 | X20: =SUM(X13:X19) -> 12323 | Y20: =SUM(Y13:Y19) -> 24284 | Z20: =SUM(Z13:Z19) -> 8553.8 | AA20: =SUM(AA13:AA19) -> 113.3 | AB20: =SUM(AB13:AB19) -> 25394 | AC20: =SUM(AC13:AC19) -> 11921 | AD20: =SUM(AD13:AD19) -> 51 | ... AH20: =SUM(AH13:AH19) -> 175
A21: Durner | B21: 91718 | C21: =B21*0.000244 -> 22.379192 | D21: 0 | E21: =D21*0.000368 -> 0 | F21: 192529 | G21: =F21*9.8 -> 1886784.2 | H21: =F21*0.00341 -> 656.52389 | I21: 41371 | J21: =I21*8.4 -> 347516.4 | K21: =I21*0.00303 -> 125.35413 | L21: 400 | M21: =L21*0.00000242 -> 0.000968 | N21: 0 | O21: =N21*0.00005 -> 0 | P21: =C21+E21+H21+K21+M21+O21 -> 804.25818 | Q21: 125985 | R21: Mix | S21: ='ZDF-Topserv'!C6 -> 421344 | T21: =(Q21*0.000435)+(S14*0.0000557) -> 54.803475 | U21: =P21+T21 -> 859.06165 | V21: ISO 14001 | W21: 11663 | X21: 9702 | Y21: 9064 | Z21: =Y21*0.25 -> 2266 | AA21: 40 | AB21: 8000 | AC21: 2000 | AD21: 18 | AE21: 30 | AF21: 132 | AG21: 42 | AH21: 74
A22: Franz Seidel | B22: 0 | C22: =B22*0.000244 -> 0 | D22: 8156 | E22: =D22*0.000368 -> 3.001408 | F22: 13000 | G22: =F22*9.8 -> 127400 | H22: =F22*0.00341 -> 44.33 | I22: 0 | J22: =I22*8.4 -> 0 | K22: =I22*0.00303 -> 0 | L22: 58 | M22: =L22*0.00000242 -> 0.00014036 | N22: 0 | O22: =N22*0.00005 -> 0 | P22: =C22+E22+H22+K22+M22+O22 -> 47.331548 | Q22: 6000 | R22: Mix | S22: 0 | T22: =(Q22*0.000107)+(S22*0.0000557) -> 0.642 | U22: =P22+T22 -> 47.973548 | V22: 0 | W22: 160 | X22: 0 | Y22: =Y21/AA21*AA22 -> 385.22 | Z22: =Z21/Y21*Y22 -> 96.305 | AA22: 1.7 | AB22: 1142 | AC22: 354 | AD22: 3 | AE22: 2 | AF22: 8 | AG22: 4 | AH22: 6
A23: Summe Durner-Gruppe | B23: =SUM(B21:B22) -> 91718 | C23: =SUM(C21:C22) -> 22.379192 | D23: =SUM(D21:D22) -> 8156 | E23: =SUM(E21:E22) -> 3.001408 | F23: =SUM(F21:F22) -> 205529 | G23: =SUM(G21:G22) -> 2014184.2 | H23: =SUM(H21:H22) -> 700.85389 | I23: =SUM(I21:I22) -> 41371 | ... Q23: =SUM(Q21:Q22) -> 131985 | R23: Mix | S23: =SUM(S21:S22) -> 421344 | T23: =SUM(T21:T22) -> 55.445475 | U23: =SUM(U21:U22) -> 907.0352 | W23: =SUM(W21:W22) -> 11823 | X23: =SUM(X21:X22) -> 9702 | Y23: =SUM(Y21:Y22) -> 9449.22 | Z23: =SUM(Z21:Z22) -> 2362.305 | AA23: =SUM(AA21:AA22) -> 41.7 | AB23: =SUM(AB21:AB22) -> 9142 | AC23: =SUM(AC21:AC22) -> 2354 | AD23: =SUM(AD21:AD22) -> 21 | ... AH23: =SUM(AH21:AH22) -> 80
A24: Summe-Brune | B24: 416115 | C24: =B24*0.000244 -> 101.53206 | D24: 0 | E24: =D24*0.000368 -> 0 | F24: =124268+12827 -> 137095 | G24: =F24*9.8 -> 1343531 | H24: =F24*0.00341 -> 467.49395 | I24: 21957 | J24: =I24*8.4 -> 184438.8 | K24: =I24*0.00303 -> 66.52971 | L24: 418 | M24: =L24*0.00000242 -> 0.00101156 | O24: =N24*0.00005 -> 0 | P24: =C24+E24+H24+K24+M24+O24 -> 635.55673 | Q24: 222516 | R24: Öko | S24: 0 | T24: =Q24*0.000435 -> 96.79446 | U24: =P24+T24 -> 732.35119 | V24: ISO 14001 | W24: =1996+18094 -> 20090 | X24: 24709 | Y24: 11791 | Z24: 2434 | AA24: 34 | AB24: 10993 | AC24: 2257 | AD24: 19 | AE24: 20 | AF24: 100 | AG24: 38 | AH24: 58
A25: TOPSERV | B25: =B12+B20+B23+B24 -> 2804510 | C25: =C12+C20+C23+C24 -> 684.30044 | D25: =D12+D20+D23+D24 -> 407156 | E25: =E12+E20+E23+E24 -> 149.83341 | F25: =F12+F20+F23+F24 -> 1187643 | G25: =G12+G20+G23+G24 -> 11638901 | H25: =H12+H20+H23+H24 -> 4049.8626 | I25: =I12+I20+I23+I24 -> 106510 | ... Q25: =Q12+Q20+Q23+Q24 -> 1944371 | S25: =S12+S20+S23+S24 -> 1721708.8 | T25: =T12+T20+T23+T24 -> 588.25936 | U25: =U12+U20+U23+U24 -> 5797.3861 | W25: =W12+W20+W23+W24 -> 141636 | X25: =X12+X20+X23+X24 -> 56964 | Y25: =Y12+Y20+Y23+Y24 -> 63522.22 | Z25: =Z12+Z20+Z23+Z24 -> 17826.505 | AA25: =AA12+AA20+AA23+AA24 -> 264.73 | AB25: =AB12+AB20+AB23+AB24 -> 71284 | AC25: =AC12+AC20+AC23+AC24 -> 20537 | AD25: =AD12+AD20+AD23+AD24 -> 147 | ... AH25: =AH12+AH20+AH23+AH24 -> 446
A30: Gesamtenergieverbrauch (ohne Benzin, da Privatnutzung von Firmenwagen möglich) | B30: kWh | D30: t CO2e | F30: Kompensation | H30: t CO2e | Q30: Gekaufter Ökostrom kWh | S30: Erzeugter Strom kWh | U30: Recyclingabfall Papier | V30: Recyclingabfall Kst. | W30: Restmüll | X30: Gefährlicher Abfall
A31: Wencke-Gruppe | B31: =B12+D12+G12+Q12+S12 -> 5814645 | D31: =U12 -> 1737.8264 | F31: 200.000 m² Wald | H31: =200000/500 -> 400 | Q31: =Q12 -> 912452 | S31: =S12 -> 445364.8 | U31: =4.25+8.91+8.91+5.02 -> 27.09 | W31: =7.47+13.18+13.18 -> 33.83 | X31: =5.11+5.11 -> 10.22
A32: Toussaint-Gruppe | B32: =B20+D20+G20+Q20+S20 -> 8052453 | D32: =U20 -> 2420.1734 | Q32: =0.5*(Q13+Q14+Q15+Q16+Q19)+Q18 -> 384006.5 | S32: =S20 -> 855000 | U32: =2.2+1.04+7.74+34.61+15.97 -> 61.56 | W32: =3.7+3.9+6+16.29+20.56 -> 50.45 | X32: =9.3+1.15+7.81 -> 18.26
A33: Durner-Gruppe | B33: =B23+D23+G23+Q23+S23 -> 2667387.2 | D33: =U23 -> 907.0352 | Q33: =Q23*0.5 -> 65992.5 | S33: =S23 -> 421344 | U33: 49 | W33: 25 | X33: 0
A34: Brune | B34: =B24+D24+G24+Q24+S24 -> 1982162 | D34: =U24 -> 732.35119 | Q34: =Q24 -> 222516 | S34: =S24 -> 0 | U34: 49 | W34: 25 | X34: 0
A35: TOPSERV | B35: =SUM(B31:B34) -> 18516647 | D35: =SUM(D31:D34) -> 5797.3861 | Q35: =SUM(Q31:Q34) -> 1584967 | S35: =SUM(S31:S34) -> 1721708.8 | U35: =SUM(U31:U34) -> 186.65 | W35: =SUM(W31:W34) -> 134.28 | X35: =SUM(X31:X34) -> 28.48

Sheet KPI's
A1: KPI | B1: Wencke | C1: Toussaint | D1: Durner | E1: Brune | F1: TOPSERV
A2: Umsatz / Mitarbeiter (€/MA) | B2: =Daten2023!AA12*1000000/Daten2023!AF12 -> 245876.62 | C2: =Daten2023!AA20*1000000/Daten2023!AF20 -> 291259.64 | D2: =Daten2023!AA23*1000000/Daten2023!AF23 -> 297857.14 | E2: =Daten2023!AA24*1000000/Daten2023!AF24 -> 340000 | F2: =Daten2023!AA25*1000000/Daten2023!AF25 -> 282529.35
A3: Umsatz / Warenabsatz (T€/t) | B3: =Daten2023!AA12*1000/Daten2023!Y12 -> 4.2076897 | C3: =Daten2023!AA20*1000/Daten2023!Y20 -> 4.6656235 | D3: =Daten2023!AA23*1000/Daten2023!Y23 -> 4.4130627 | E3: =Daten2023!AA24*1000/Daten2023!Y24 -> 2.8835553 | F3: =Daten2023!AA25*1000/Daten2023!Y25 -> 4.1675181
A4: Gesamtenergieverbrauch (kWh) | B4: =Daten2023!B31 -> 5814645 | C4: =Daten2023!B32 -> 8052453 | D4: =Daten2023!B33 -> 2667387.2 | E4: =Daten2023!B34 -> 1982162 | F4: =Daten2023!B35 -> 18516647
A5: Ökostrom / Gesamtenergieverbrauch (%) | B5: =(Daten2023!Q31+Daten2023!S31)/Daten2023!B31 -> 0.23351672 | C5: =(Daten2023!Q32+Daten2023!S32)/Daten2023!B32 -> 0.15386696 | D5: =(Daten2023!Q33+Daten2023!S33)/Daten2023!B33 -> 0.18270182 | E5: =(Daten2023!Q34+Daten2023!S34)/Daten2023!B34 -> 0.11225924 | F5: =(Daten2023!Q35+Daten2023!S35)/Daten2023!B35 -> 0.17857854
A6: Selbsterzeugter Strom / Gesamtenergieverbrauch (%) | B6: =Daten2023!S31/Daten2023!B31 -> 0.076593636 | C6: =Daten2023!S32/Daten2023!B32 -> 0.10617883 | D6: =Daten2023!S33/Daten2023!B33 -> 0.15796132 | E6: =Daten2023!S34/Daten2023!B34 -> 0 | F6: =Daten2023!S35/Daten2023!B35 -> 0.092981671
A7: Gesamtenergieverbrauch / Umsatz (kWh/1000€) | B7: =Daten2023!B31/(Daten2023!AA12*1000) -> 76.781262 | C7: =Daten2023!B32/(Daten2023!AA20*1000) -> 71.071959 | D7: =Daten2023!B33/(Daten2023!AA23*1000) -> 63.96612 | E7: =Daten2023!B34/(Daten2023!AA24*1000) -> 58.298882 | F7: =Daten2023!B35/(Daten2023!AA25*1000) -> 69.945406
A8: Gesamtenergieverbrauch / Gewerbefläche (kWh/m²) | B8: =Daten2023!B31/(Daten2023!AB12+Daten2023!AC12) -> 195.38458 | C8: =Daten2023!B32/(Daten2023!AB20+Daten2023!AC20) -> 215.79668 | D8: =Daten2023!B33/(Daten2023!AB23+Daten2023!AC23) -> 232.02742 | E8: =Daten2023!B34/(Daten2023!AB24+Daten2023!AC24) -> 149.59713 | F8: =Daten2023!B35/(Daten2023!AB25+Daten2023!AC25) -> 201.66027
A9: Gesamtenergieverbrauch / Mitarbeiter (kWh/MA) | B9: =Daten2023!B31/Daten2023!AF12 -> 18878.718 | C9: =Daten2023!B32/Daten2023!AF20 -> 20700.393 | D9: =Daten2023!B33/Daten2023!AF23 -> 19052.766 | E9: =Daten2023!B34/Daten2023!AF24 -> 19821.62 | F9: =Daten2023!B35/Daten2023!AF25 -> 19761.63
A10: CO2e-Emissionen (Scope 1+2) (t) | B10: =Daten2023!U12 -> 1737.8264 | C10: =Daten2023!U20 -> 2420.1734 | D10: =Daten2023!U23 -> 907.0352 | E10: =Daten2023!U24 -> 732.35119 | F10: =Daten2023!U25 -> 5797.3861
A11: CO2e-Emissionen / Gesamtenergieverbrauch (kg/kWh) | B11: =(B10*1000)/B4 -> 0.29887059 | C11: =(C10*1000)/C4 -> 0.30055107 | D11: =(D10*1000)/D4 -> 0.34004632 | E11: =(E10*1000)/E4 -> 0.36947091 | F11: =(F10*1000)/F4 -> 0.31309049
A12: CO2e-Emissionen / Umsatz (kg/1000€) | B12: =B10/Daten2023!AA12 -> 22.947661 | C12: =C10/Daten2023!AA20 -> 21.360754 | D12: =D10/Daten2023!AA23 -> 21.751444 | E12: =E10/Daten2023!AA24 -> 21.539741 | F12: =F10/Daten2023!AA25 -> 21.899241
A13: CO2e-Emissionen / Gewerbefläche (kg/m²) | B13: =(B10*1000)/(Daten2023!AB12+Daten2023!AC12) -> 58.394703 | C13: =(C10*1000)/(Daten2023!AB20+Daten2023!AC20) -> 64.857923 | D13: =(D10*1000)/(Daten2023!AB23+Daten2023!AC23) -> 78.90007 | E13: =(E10*1000)/(Daten2023!AB24+Daten2023!AC24) -> 55.271788 | F13: =(F10*1000)/(Daten2023!AB25+Daten2023!AC25) -> 63.137911
A14: CO2e-Emissionen / Mitarbeiter (kg/MA) | B14: =B10*1000/Daten2023!AF12 -> 5642.2934 | C14: =C10*1000/Daten2023!AF20 -> 6221.5254 | D14: =D10*1000/Daten2023!AF23 -> 6478.8229 | E14: =E10*1000/Daten2023!AF24 -> 7323.5119 | F14: =F10*1000/Daten2023!AF25 -> 6187.1784
A15: CO2e-Emissionen / Warenabsatz (%) | B15: =B10/Daten2023!Y12 -> 0.096556637 | C15: =C10/Daten2023!Y20 -> 0.099661233 | D15: =D10/Daten2023!Y23 -> 0.095990484 | E15: =E10/Daten2023!Y24 -> 0.062111033 | F15: =F10/Daten2023!Y25 -> 0.091265484
A16: Kraftstoffverbrauch / Warenabsatz (L/t) | B16: =Daten2023!F12/Daten2023!Y12 -> 21.891821 | C16: =Daten2023!F20/Daten2023!Y12 -> 25.058895 | D16: =Daten2023!F23/Daten2023!Y23 -> 21.750896 | E16: =Daten2023!F24/Daten2023!Y24 -> 11.627088 | F16: =Daten2023!F25/Daten2023!Y25 -> 18.696497
A17: Papierverbrauch / Warenabsatz (kg/t) | B17: =Daten2023!W12/Daten2023!Y12 -> 3.1752973 | C17: =Daten2023!W20/Daten2023!Y20 -> 2.1649646 | D17: =Daten2023!W23/Daten2023!Z23 -> 5.0048575 | E17: =Daten2023!W24/Daten2023!Y24 -> 1.7038419 | F17: =Daten2023!W25/Daten2023!Y25 -> 2.229708
A18: Folienverbrauch / Warenabsatz (kg/t) | B18: =Daten2023!X12/Daten2023!Y12 -> 0.56839649 | C18: =Daten2023!X20/Daten2023!Y20 -> 0.50745347 | D18: =Daten2023!X23/Daten2023!Y23 -> 1.0267514 | E18: =Daten2023!X24/Daten2023!Y24 -> 2.0955814 | F18: =Daten2023!X25/Daten2023!Y25 -> 0.89675707
A19: Verkauf nachhaltiger Produkte / Warenabsatz | B19: =Daten2023!Z12/Daten2023!Y12 -> 0.24871652 | C19: =Daten2023!Z20/Daten2023!Y20 -> 0.35224016 | D19: =Daten2023!Z23/Daten2023!Y23 -> 0.25 | E19: =Daten2023!Z24/Daten2023!Y24 -> 0.20642863 | F19: =Daten2023!Z25/Daten2023!Y25 -> 0.28063416
A20: Anteil weiblicher Mitarbeiter | B20: =Daten2023!AG12/Daten2023!AF12 -> 0.3474026 | C20: =Daten2023!AG20/Daten2023!AF20 -> 0.38303342 | D20: =Daten2023!AG23/Daten2023!AF23 -> 0.32857143 | E20: =Daten2023!AG24/Daten2023!AF24 -> 0.38 | F20: =Daten2023!AG25/Daten2023!AF25 -> 0.36286019
A21: Anteil Mitarbeiter > 5 Jahre im Unternehmen | B21: =Daten2023!AH12/Daten2023!AF12 -> 0.43181818 | C21: =Daten2023!AH20/Daten2023!AF20 -> 0.44987147 | D21: =Daten2023!AH23/Daten2023!AF23 -> 0.57142857 | E21: =Daten2023!AH24/Daten2023!AF24 -> 0.58 | F21: =Daten2023!AH25/Daten2023!AF25 -> 0.47598719
